BEGIN:VCALENDAR
VERSION:2.0
PRODID:-//Plone.org//NONSGML plone.app.event//EN
X-WR-TIMEZONE:Europe/Berlin
BEGIN:VEVENT
SUMMARY:QESplus Netzwerktreffen
DTSTART;VALUE=DATE:20260910
DTEND;VALUE=DATE:20260911
DTSTAMP;VALUE=DATE-TIME:20260421T045939Z
UID:ba085582810c4d25bf6cc9d6a09708dc@qesplus.de
CONTACT:info@liwf.de
CREATED;VALUE=DATE-TIME:20250505T083437Z
LAST-MODIFIED;VALUE=DATE-TIME:20251103T145838Z
LOCATION:Dresden
URL:https://qesplus.de/de/events/copy3_of_qesplus-netzwerktreffen-2
END:VEVENT
END:VCALENDAR
